BEGIN:VCALENDAR
VERSION:2.0
PRODID:-//wp-events-plugin.com//7.2.3.1//EN
BEGIN:VEVENT
UID:814@lust-zu-lernen.online
DTSTART;TZID=Europe/Berlin:20250118T100000
DTEND;TZID=Europe/Berlin:20250118T120000
DTSTAMP:20250903T072051Z
URL:https://lust-zu-lernen.online/veranstaltungen/online-aufbaukurs-intuit
 ives-reiki-auftakt-der-8-module-2/
SUMMARY:Online-Aufbaukurs Intuitives Reiki 25/1 - START der 8 Module -> ge
 änderter Termin
DESCRIPTION:Tauche tiefer in Dich und das Leben ein\, indem Du den nächste
 n Schritt auf Deinem Reiki-Dao machst! Mit den traditionellen Reiki-Symbol
 en\, mit denen Du während des Aufbaukurses lernst zu arbeiten\, wird bein
 ahe Unglaubliches möglich!
CATEGORIES:Aufbaukurse,Kosmische Gesetze,Reiki lernen
LOCATION:http://online
END:VEVENT
BEGIN:VTIMEZONE
TZID:Europe/Berlin
X-LIC-LOCATION:Europe/Berlin
BEGIN:STANDARD
DTSTART:20241027T020000
TZOFFSETFROM:+0200
TZOFFSETTO:+0100
TZNAME:CET
END:STANDARD
END:VTIMEZONE
END:VCALENDAR