BEGIN:VCALENDAR
VERSION:2.0
PRODID:-//wp-events-plugin.com//7.2.3.1//EN
BEGIN:VEVENT
UID:17@lust-zu-lernen.online
DTSTART;TZID=Europe/Berlin:20231014T200000
DTEND;TZID=Europe/Berlin:20231014T203000
DTSTAMP:20230707T111844Z
URL:https://lust-zu-lernen.online/veranstaltungen/heilmond-balsam-fuers-he
 rz-10/
SUMMARY:Heilmond: Balsam fürs Herz
DESCRIPTION:Der Heilmond ist wie Balsam für Dein Herz! Gleichzeitig gebe i
 ch Dir damit die Möglichkeit\, sowohl die sanfte Stärke von Reiki als au
 ch meine Fern-Energie-Übertragung kostenfrei zu erleben. Heilsames Schnup
 pern - ein Highlight!
CATEGORIES:Heilmond,Mond-Magie,Schnuppern
LOCATION:#
END:VEVENT
BEGIN:VTIMEZONE
TZID:Europe/Berlin
X-LIC-LOCATION:Europe/Berlin
BEGIN:DAYLIGHT
DTSTART:20230326T030000
TZOFFSETFROM:+0100
TZOFFSETTO:+0200
TZNAME:CEST
END:DAYLIGHT
END:VTIMEZONE
END:VCALENDAR