BEGIN:VCALENDAR
VERSION:2.0
PRODID:-//wp-events-plugin.com//7.2.3.1//EN
BEGIN:VEVENT
UID:1347@lust-zu-lernen.online
DTSTART;TZID=Europe/Berlin:20260509T100000
DTEND;TZID=Europe/Berlin:20260510T170000
DTSTAMP:20260404T111150Z
URL:https://lust-zu-lernen.online/veranstaltungen/fachfortbildung-intuitiv
 es-reiki-coaching-modul-1/
SUMMARY:FACHFORTBILDUNG: INTUITIVES REIKI-COACHING\, Modul-1
DESCRIPTION:„Wenn Intuition und Reiki miteinander verschmelzen\, lösen s
 ich innere Knoten wie von selbst“: Diese Fachfortbildung richtet sich an
  Reiki-Praktizierende\, die ihre energetische Arbeit vertiefen und Mensche
 n nicht nur heilsam\, sondern auch kognitiv\, emotional und intuitiv begle
 iten möchten. Mit dieser zeitgemäßen\, tiefgründigen und nachhaltig wi
 rksamen Methode öffnet sich für Dich eine völlig neue Dimension des Rei
 ki-Wirkens – klar\, intuitiv\, herzverbunden und transformierend.
CATEGORIES:Für Reiki-LehrerInnen,Für Reiki-MeisterInnen,Für
 Reiki-Profis,Kosmische Gesetze,Weiterbildungen
LOCATION:#
END:VEVENT
BEGIN:VTIMEZONE
TZID:Europe/Berlin
X-LIC-LOCATION:Europe/Berlin
BEGIN:DAYLIGHT
DTSTART:20260329T030000
TZOFFSETFROM:+0100
TZOFFSETTO:+0200
TZNAME:CEST
END:DAYLIGHT
END:VTIMEZONE
END:VCALENDAR