BEGIN:VCALENDAR
VERSION:2.0
PRODID:-//wp-events-plugin.com//7.2.3.1//EN
BEGIN:VEVENT
UID:1328@lust-zu-lernen.online
DTSTART;TZID=Europe/Berlin:20261005T183000
DTEND;TZID=Europe/Berlin:20261005T203000
DTSTAMP:20251125T130041Z
URL:https://lust-zu-lernen.online/veranstaltungen/4-online-grundkurs-intui
 tives-reiki-26-1-reiki-grad-modul-1-von-8-start/
SUMMARY:4. Online-GRUNDkurs Intuitives Reiki 26 (1. Reiki-Grad)\, Modul-1 v
 on 8 (START)
DESCRIPTION:Spürst Du\, dass es Zeit ist\, Dich selbst wieder mehr zu füh
 len? Diese Ausbildung lädt Dich ein\, die erste Tür zu öffnen – hin z
 u Ruhe\, Bewusstheit und einer lebendigen Verbindung zu Deiner sowie zur R
 eiki-Energie. Du lernst\, Deine Intuition zu wecken\, Dein inneres Licht z
 u spüren und Reiki als liebevollen Weg der Selbsterkenntnis zu nutzen. Es
  ist Zeit\, bei Dir anzukommen – in Deiner Kraft\, in Deinem Herzen\, in
  der Stille\, aus der alles entsteht.
CATEGORIES:Grundkurse,Reiki lernen
LOCATION:http://online
END:VEVENT
BEGIN:VTIMEZONE
TZID:Europe/Berlin
X-LIC-LOCATION:Europe/Berlin
BEGIN:DAYLIGHT
DTSTART:20260329T030000
TZOFFSETFROM:+0100
TZOFFSETTO:+0200
TZNAME:CEST
END:DAYLIGHT
END:VTIMEZONE
END:VCALENDAR