BEGIN:VCALENDAR
VERSION:2.0
PRODID:-//wp-events-plugin.com//7.2.3.1//EN
BEGIN:VEVENT
UID:1534@lust-zu-lernen.online
DTSTART;TZID=Europe/Berlin;VALUE=DATE:20261016
DTEND;TZID=Europe/Berlin;VALUE=DATE:20261019
DTSTAMP:20260424T052932Z
URL:https://lust-zu-lernen.online/veranstaltungen/15-reiki-konferenz-in-bu
 lgarien/
SUMMARY:15. Reiki Konferenz in Bulgarien
DESCRIPTION:Die Reiki Konferenz in Bulgarien findet im Oktober 2025 zum 14.
  Mal statt. Die Veranstaltung ist offen für alle Reiki-Menschen. Ich lieb
 e die Begegnung und den Austausch mit den Reiki-Kollegen dort sehr!
CATEGORIES:Für Reiki-LehrerInnen,Für
 Reiki-MeisterInnen,Retreats,Weiterbildungen
END:VEVENT
BEGIN:VTIMEZONE
TZID:Europe/Berlin
X-LIC-LOCATION:Europe/Berlin
BEGIN:DAYLIGHT
DTSTART:20260329T030000
TZOFFSETFROM:+0100
TZOFFSETTO:+0200
TZNAME:CEST
END:DAYLIGHT
END:VTIMEZONE
END:VCALENDAR